BEGIN:VCALENDAR
VERSION:2.0
PRODID:-//Todos Pintamos contra el Bullying - ECPv6.15.20//NONSGML v1.0//EN
CALSCALE:GREGORIAN
METHOD:PUBLISH
X-ORIGINAL-URL:https://www.todospintamoscontraelbullying.com
X-WR-CALDESC:Eventos para Todos Pintamos contra el Bullying
REFRESH-INTERVAL;VALUE=DURATION:PT1H
X-Robots-Tag:noindex
X-PUBLISHED-TTL:PT1H
BEGIN:VTIMEZONE
TZID:Europe/Madrid
BEGIN:DAYLIGHT
TZOFFSETFROM:+0100
TZOFFSETTO:+0200
TZNAME:CEST
DTSTART:20240331T010000
END:DAYLIGHT
BEGIN:STANDARD
TZOFFSETFROM:+0200
TZOFFSETTO:+0100
TZNAME:CET
DTSTART:20241027T010000
END:STANDARD
BEGIN:DAYLIGHT
TZOFFSETFROM:+0100
TZOFFSETTO:+0200
TZNAME:CEST
DTSTART:20250330T010000
END:DAYLIGHT
BEGIN:STANDARD
TZOFFSETFROM:+0200
TZOFFSETTO:+0100
TZNAME:CET
DTSTART:20251026T010000
END:STANDARD
BEGIN:DAYLIGHT
TZOFFSETFROM:+0100
TZOFFSETTO:+0200
TZNAME:CEST
DTSTART:20260329T010000
END:DAYLIGHT
BEGIN:STANDARD
TZOFFSETFROM:+0200
TZOFFSETTO:+0100
TZNAME:CET
DTSTART:20261025T010000
END:STANDARD
END:VTIMEZONE
BEGIN:VEVENT
DTSTART;TZID=Europe/Madrid:20250408T190000
DTEND;TZID=Europe/Madrid:20250408T210000
DTSTAMP:20260421T152209
CREATED:20250401T084000Z
LAST-MODIFIED:20260417T125103Z
UID:3653-1744138800-1744146000@www.todospintamoscontraelbullying.com
SUMMARY:Sesión especial contra el Bullying con Brian Giner para todos los públicos
DESCRIPTION:A raíz de las sesiones dirigidas a estudiantes\, muchas familias nos han pedido herramientas para ayudar y trabajar la problemática del Bullying. \nDe hecho\, 1 de cada 4 estudiantes en España ha sido víctima de Bullying y el 7\,7% de las familias afirma que cree que su hijo ha sido víctima. Por ello\, GIOTTO\, junto con A.E.P.A.E.\, realizará una Sesión especial contra el Bullying\, dirigida a madres\, padres y tutores\, el día 8 de ABRIL\, a las 19:00 h (GMT). \nEsta sesión contará con la participación del activista contra el Bullying y escritor del libro “Golpeado Pero No Derrotado”\, Brian Giner. \nLa sesión será completamente gratuita y se retransmitirá en directo vía ZOOM. El objetivo es ofrecer herramientas para ayudar a las personas a trabajar desde casa en la PREVENCIÓN\, DETECCIÓN y ACCIÓN ante todo tipo de situaciones de Acoso Escolar. \nPara aclarar dudas previas o las que te surjan en el momento\, facilitamos una sección de preguntas y respuestas. \n¡Un espacio para hablar y hacer tus preguntas sobre Bullying!\n  \n¡Inscríbete gratis!\nPor favor rellena el siguiente formulario con tus datos. \n \nConoce a los especialistas que van a participar en la sesión:\nEnrique Pérez Carrillo de la CuevaPresidente de A.E.P.A.E yespecialista en autodefensa \nAna DíezTrabajadora social \nCon la participación especial de:\nBrian Giner\nActivista contra el Bullying y autor del libro "Golpeado pero no derrotado"
URL:https://www.todospintamoscontraelbullying.com/event/sesion-especial-contra-el-bullying-con-brian-giner-para-todos-los-publicos/
CATEGORIES:Especial
END:VEVENT
END:VCALENDAR